BEGIN:VCALENDAR
VERSION:1.0
BEGIN:VEVENT
DTSTART:20190220T100000
DTEND:20190220T120000
SUMMARY:InvestSMART Forum - Adelaide - InvestSMART
LOCATION:
DESCRIPTION:<p><span style="font-size: 24pt;"><strong>Myths that can hurt your wealth</strong></span></p>
END:VEVENT
END:VCALENDAR
